BEGIN:VCALENDAR
VERSION:2.0
PRODID:-//Evangel University - ECPv6.15.20//NONSGML v1.0//EN
CALSCALE:GREGORIAN
METHOD:PUBLISH
X-WR-CALNAME:Evangel University
X-ORIGINAL-URL:https://www.evangel.edu
X-WR-CALDESC:Events for Evangel University
REFRESH-INTERVAL;VALUE=DURATION:PT1H
X-Robots-Tag:noindex
X-PUBLISHED-TTL:PT1H
BEGIN:VTIMEZONE
TZID:America/Chicago
BEGIN:DAYLIGHT
TZOFFSETFROM:-0600
TZOFFSETTO:-0500
TZNAME:CDT
DTSTART:20240310T080000
END:DAYLIGHT
BEGIN:STANDARD
TZOFFSETFROM:-0500
TZOFFSETTO:-0600
TZNAME:CST
DTSTART:20241103T070000
END:STANDARD
BEGIN:DAYLIGHT
TZOFFSETFROM:-0600
TZOFFSETTO:-0500
TZNAME:CDT
DTSTART:20250309T080000
END:DAYLIGHT
BEGIN:STANDARD
TZOFFSETFROM:-0500
TZOFFSETTO:-0600
TZNAME:CST
DTSTART:20251102T070000
END:STANDARD
BEGIN:DAYLIGHT
TZOFFSETFROM:-0600
TZOFFSETTO:-0500
TZNAME:CDT
DTSTART:20260308T080000
END:DAYLIGHT
BEGIN:STANDARD
TZOFFSETFROM:-0500
TZOFFSETTO:-0600
TZNAME:CST
DTSTART:20261101T070000
END:STANDARD
END:VTIMEZONE
BEGIN:VEVENT
DTSTART;TZID=America/Chicago:20251104T193000
DTEND;TZID=America/Chicago:20251104T193000
DTSTAMP:20260425T052631
CREATED:20250916T132109Z
LAST-MODIFIED:20251031T190728Z
UID:91866-1762284600-1762284600@www.evangel.edu
SUMMARY:University Orchestra Concert
DESCRIPTION:
URL:https://www.evangel.edu/event/university-orchestra-concert-12/
LOCATION:Spence Chapel\, 1111 North Glenstone Avenue\, Springfield\, MO\, 65802\, United States
CATEGORIES:Featured,Fine Arts,Homepage
END:VEVENT
BEGIN:VEVENT
DTSTART;TZID=America/Chicago:20251106T193000
DTEND;TZID=America/Chicago:20251106T193000
DTSTAMP:20260425T052631
CREATED:20250916T133508Z
LAST-MODIFIED:20251105T192704Z
UID:91875-1762457400-1762457400@www.evangel.edu
SUMMARY:Jazz Combo & Jazz Band Concert
DESCRIPTION:
URL:https://www.evangel.edu/event/jazz-combo-jazz-band-concert-3/
LOCATION:Barnett Recital Hall\, 1111 North Glenstone Avenue\, Springfield\, MO\, 65802\, United States
CATEGORIES:Featured,Fine Arts,Homepage
END:VEVENT
BEGIN:VEVENT
DTSTART;VALUE=DATE:20251107
DTEND;VALUE=DATE:20251108
DTSTAMP:20260425T052631
CREATED:20250506T192948Z
LAST-MODIFIED:20250506T192948Z
UID:88978-1762473600-1762559999@www.evangel.edu
SUMMARY:Valor Visit Day
DESCRIPTION:
URL:https://www.evangel.edu/event/valor-visit-day-3/
LOCATION:MO
CATEGORIES:Featured,Homepage
END:VEVENT
BEGIN:VEVENT
DTSTART;TZID=America/Chicago:20251109T150000
DTEND;TZID=America/Chicago:20251109T150000
DTSTAMP:20260425T052631
CREATED:20251031T191504Z
LAST-MODIFIED:20251031T192112Z
UID:92779-1762700400-1762700400@www.evangel.edu
SUMMARY:A Choral Celebration
DESCRIPTION:
URL:https://www.evangel.edu/event/a-choral-celebration/
LOCATION:All Saints Anglican Church
CATEGORIES:Fine Arts,Homepage
END:VEVENT
BEGIN:VEVENT
DTSTART;TZID=America/Chicago:20251111T190000
DTEND;TZID=America/Chicago:20251111T190000
DTSTAMP:20260425T052631
CREATED:20250916T133619Z
LAST-MODIFIED:20251031T190804Z
UID:91877-1762887600-1762887600@www.evangel.edu
SUMMARY:Music & Muscles: A Musicians Guide to Well-Being with Dr. Sarah Morris
DESCRIPTION:
URL:https://www.evangel.edu/event/music-muscles-a-musicians-guide-to-well-being-with-dr-sarah-morris/
LOCATION:Barnett Recital Hall\, 1111 North Glenstone Avenue\, Springfield\, MO\, 65802\, United States
CATEGORIES:Featured,Fine Arts,Homepage
END:VEVENT
BEGIN:VEVENT
DTSTART;TZID=America/Chicago:20251113T193000
DTEND;TZID=America/Chicago:20251113T193000
DTSTAMP:20260425T052631
CREATED:20250916T133729Z
LAST-MODIFIED:20251031T190824Z
UID:91879-1763062200-1763062200@www.evangel.edu
SUMMARY:Chorus & Chorale Concert
DESCRIPTION:
URL:https://www.evangel.edu/event/chorus-chorale-concert/
LOCATION:Barnett Recital Hall\, 1111 North Glenstone Avenue\, Springfield\, MO\, 65802\, United States
CATEGORIES:Featured,Fine Arts,Homepage
END:VEVENT
BEGIN:VEVENT
DTSTART;TZID=America/Chicago:20251117T170000
DTEND;TZID=America/Chicago:20251117T170000
DTSTAMP:20260425T052631
CREATED:20250916T133912Z
LAST-MODIFIED:20251031T190901Z
UID:91881-1763398800-1763398800@www.evangel.edu
SUMMARY:Honors Recital
DESCRIPTION:
URL:https://www.evangel.edu/event/honors-recital-4/
LOCATION:Barnett Recital Hall\, 1111 North Glenstone Avenue\, Springfield\, MO\, 65802\, United States
CATEGORIES:Featured,Fine Arts,Homepage
END:VEVENT
BEGIN:VEVENT
DTSTART;TZID=America/Chicago:20251117T190000
DTEND;TZID=America/Chicago:20251117T190000
DTSTAMP:20260425T052631
CREATED:20250916T134022Z
LAST-MODIFIED:20251031T191320Z
UID:91883-1763406000-1763406000@www.evangel.edu
SUMMARY:Edna Baker Vocal Recital
DESCRIPTION:
URL:https://www.evangel.edu/event/edna-baker-vocal-recital/
LOCATION:Barnett Recital Hall\, 1111 North Glenstone Avenue\, Springfield\, MO\, 65802\, United States
CATEGORIES:Featured,Fine Arts,Homepage
END:VEVENT
BEGIN:VEVENT
DTSTART;TZID=America/Chicago:20251118T193000
DTEND;TZID=America/Chicago:20251118T193000
DTSTAMP:20260425T052631
CREATED:20250916T134116Z
LAST-MODIFIED:20251031T191259Z
UID:91885-1763494200-1763494200@www.evangel.edu
SUMMARY:University Band Concert
DESCRIPTION:
URL:https://www.evangel.edu/event/university-band-concert-5/
LOCATION:Barnett Recital Hall\, 1111 North Glenstone Avenue\, Springfield\, MO\, 65802\, United States
CATEGORIES:Featured,Fine Arts,Homepage
END:VEVENT
BEGIN:VEVENT
DTSTART;TZID=America/Chicago:20251120T193000
DTEND;TZID=America/Chicago:20251120T193000
DTSTAMP:20260425T052631
CREATED:20250916T134218Z
LAST-MODIFIED:20251031T191241Z
UID:91887-1763667000-1763667000@www.evangel.edu
SUMMARY:Vocal Chamber Ensembles Concert
DESCRIPTION:
URL:https://www.evangel.edu/event/vocal-chamber-ensembles-concert-2/
LOCATION:Barnett Recital Hall\, 1111 North Glenstone Avenue\, Springfield\, MO\, 65802\, United States
CATEGORIES:Featured,Fine Arts,Homepage
END:VEVENT
END:VCALENDAR