BEGIN:VCALENDAR
VERSION:2.0
PRODID:-//Evangel University - ECPv6.15.20//NONSGML v1.0//EN
CALSCALE:GREGORIAN
METHOD:PUBLISH
X-WR-CALNAME:Evangel University
X-ORIGINAL-URL:https://www.evangel.edu
X-WR-CALDESC:Events for Evangel University
REFRESH-INTERVAL;VALUE=DURATION:PT1H
X-Robots-Tag:noindex
X-PUBLISHED-TTL:PT1H
BEGIN:VTIMEZONE
TZID:America/Chicago
BEGIN:DAYLIGHT
TZOFFSETFROM:-0600
TZOFFSETTO:-0500
TZNAME:CDT
DTSTART:20250309T080000
END:DAYLIGHT
BEGIN:STANDARD
TZOFFSETFROM:-0500
TZOFFSETTO:-0600
TZNAME:CST
DTSTART:20251102T070000
END:STANDARD
BEGIN:DAYLIGHT
TZOFFSETFROM:-0600
TZOFFSETTO:-0500
TZNAME:CDT
DTSTART:20260308T080000
END:DAYLIGHT
BEGIN:STANDARD
TZOFFSETFROM:-0500
TZOFFSETTO:-0600
TZNAME:CST
DTSTART:20261101T070000
END:STANDARD
BEGIN:DAYLIGHT
TZOFFSETFROM:-0600
TZOFFSETTO:-0500
TZNAME:CDT
DTSTART:20270314T080000
END:DAYLIGHT
BEGIN:STANDARD
TZOFFSETFROM:-0500
TZOFFSETTO:-0600
TZNAME:CST
DTSTART:20271107T070000
END:STANDARD
END:VTIMEZONE
BEGIN:VEVENT
DTSTART;TZID=America/Chicago:20260310T193000
DTEND;TZID=America/Chicago:20260310T193000
DTSTAMP:20260425T174238
CREATED:20260114T160612Z
LAST-MODIFIED:20260114T160612Z
UID:93383-1773171000-1773171000@www.evangel.edu
SUMMARY:Instrumental Chamber Ensembles Concert
DESCRIPTION:
URL:https://www.evangel.edu/event/instrumental-chamber-ensembles-concert-5/
LOCATION:Barnett Recital Hall\, 1111 North Glenstone Avenue\, Springfield\, MO\, 65802\, United States
CATEGORIES:Fine Arts,Homepage
END:VEVENT
BEGIN:VEVENT
DTSTART;TZID=America/Chicago:20260327T000000
DTEND;TZID=America/Chicago:20260327T000000
DTSTAMP:20260425T174238
CREATED:20250506T193254Z
LAST-MODIFIED:20250506T193254Z
UID:88988-1774569600-1774569600@www.evangel.edu
SUMMARY:Valor Visit Day
DESCRIPTION:
URL:https://www.evangel.edu/event/valor-visit-day-5/
LOCATION:MO
CATEGORIES:Featured,Homepage
END:VEVENT
END:VCALENDAR